BEGIN:VCALENDAR
VERSION:2.0
PRODID:-//Podium Azijnfabriek - ECPv6.15.20//NONSGML v1.0//EN
CALSCALE:GREGORIAN
METHOD:PUBLISH
X-WR-CALNAME:Podium Azijnfabriek
X-ORIGINAL-URL:https://podiumazijnfabriek.nl
X-WR-CALDESC:Evenementen voor Podium Azijnfabriek
REFRESH-INTERVAL;VALUE=DURATION:PT1H
X-Robots-Tag:noindex
X-PUBLISHED-TTL:PT1H
BEGIN:VTIMEZONE
TZID:Europe/Amsterdam
BEGIN:DAYLIGHT
TZOFFSETFROM:+0100
TZOFFSETTO:+0200
TZNAME:CEST
DTSTART:20250330T010000
END:DAYLIGHT
BEGIN:STANDARD
TZOFFSETFROM:+0200
TZOFFSETTO:+0100
TZNAME:CET
DTSTART:20251026T010000
END:STANDARD
BEGIN:DAYLIGHT
TZOFFSETFROM:+0100
TZOFFSETTO:+0200
TZNAME:CEST
DTSTART:20260329T010000
END:DAYLIGHT
BEGIN:STANDARD
TZOFFSETFROM:+0200
TZOFFSETTO:+0100
TZNAME:CET
DTSTART:20261025T010000
END:STANDARD
BEGIN:DAYLIGHT
TZOFFSETFROM:+0100
TZOFFSETTO:+0200
TZNAME:CEST
DTSTART:20270328T010000
END:DAYLIGHT
BEGIN:STANDARD
TZOFFSETFROM:+0200
TZOFFSETTO:+0100
TZNAME:CET
DTSTART:20271031T010000
END:STANDARD
END:VTIMEZONE
BEGIN:VEVENT
DTSTART;TZID=Europe/Amsterdam:20260826T203000
DTEND;TZID=Europe/Amsterdam:20260826T224500
DTSTAMP:20260423T110722
CREATED:20250630T181738Z
LAST-MODIFIED:20250806T124358Z
UID:11379-1787776200-1787784300@podiumazijnfabriek.nl
SUMMARY:Jazz bij PA: Stochelo & Mozes Rosenberg Trio
DESCRIPTION:Stochelo Rosenberg wordt beschouwd als een van de beste gitaristen van dit moment. Zijn voortreffelijke techniek\, zijn grote elegantie en zijn zeer persoonlijke vibrato\, die virtuositeit en emotie combineren\, hebben hem de afgelopen vijfendertig jaar ertoe gebracht de grootste jazzpodia ter wereld te delen met vele verschillende top-muzikanten. \nIn Frankrijk is een van de formaties waarmee hij ook graag tourt een trio samen met de geweldige franse gitarist Rocky Gresset en bassist William Brunard; ze hebben reeds op vele belangrijke podia in Frankrijk gespeeld. Geïnspireerd door Django Reinhardt breiden ze hun werk uit met klassiek\, pop en bossa nova in de gypsy swing-stijl. \nBuiten Frankrijk speelt hij graag met zijn jongere broer Mozes Rosenberg in een trio\, samen met bassist Daniel Gueli. Het samenspel van de 2 broers staat garant voor een gitaar spektakel van het allerhoogste niveau\, en kan binnen het genre van de Gypsy jazz zondermeer als de absolute top beschouwd worden. \nBestel hier je tickets voor € 24\,50! *\n* Exclusief servicekosten \nVanaf zaterdag 09 augustus is het ook mogelijk om een passe-partout te bestellen via deze link: https://podiumazijnfabriek.nl/event/jazz-bij-pa-passe-partout-2025-2026/ \nZaal open 20:00\nAanvang concert 20:30\nVerwachtte eindtijd 22:45 \nDrankje mee in de zaal? Dat kan en mag zeker!
URL:https://podiumazijnfabriek.nl/event/jazz-bij-pa-stochelo-moses-rosenberg-trio/
LOCATION:Podium Azijnfabriek\, Triniteitstraat 19\, ‘s-Hertogenbosch\, 5211 KW\, Nederland
CATEGORIES:Jazzkapel
ATTACH;FMTTYPE=image/png:https://podiumazijnfabriek.nl/wp-content/uploads/2025/06/Stachelo-en-Mozes-border.png
ORGANIZER;CN="Podium Azijnfabriek":MAILTO:info@podiumazijnfabriek.nl
END:VEVENT
END:VCALENDAR